BEGIN:VCALENDAR
VERSION:2.0
PRODID:-//Tukios.com/
BEGIN:VEVENT
UID:bb41f3b1-9216-4af8-838a-f0b1a03de870@www.ransfordfuneralhome.com
DTSTAMP:20260420T091857Z
DTSTART:20260417T140000Z
DTEND:20260417T150000Z
SUMMARY:Visitation
DESCRIPTION:
URL:https://www.ransfordfuneralhome.com/obituaries/thomas-culbert
LOCATION: 205 W Sherman St  Caro MI 48723
GEO:43.4917095;-83.3953387
END:VEVENT
END:VCALENDAR