BEGIN:VCALENDAR
VERSION:2.0
PRODID:-//Tukios.com/
BEGIN:VEVENT
UID:a0f5ccf3-182c-420e-a80c-a868acd0fb20@www.ransfordfuneralhome.com
DTSTAMP:20260420T091426Z
DTSTART:20260417T150000Z
DTEND:20260417T160000Z
SUMMARY:Funeral Service
DESCRIPTION:
URL:https://www.ransfordfuneralhome.com/obituaries/thomas-culbert
LOCATION: 205 W Sherman St  Caro MI 48723
GEO:43.4917095;-83.3953387
END:VEVENT
END:VCALENDAR